BEGIN:VCALENDAR
VERSION:2.0
PRODID:-//Westville Area Chamber of Commerce - ECPv6.15.20//NONSGML v1.0//EN
CALSCALE:GREGORIAN
METHOD:PUBLISH
X-ORIGINAL-URL:https://westvillechamber.org
X-WR-CALDESC:Events for Westville Area Chamber of Commerce
REFRESH-INTERVAL;VALUE=DURATION:PT1H
X-Robots-Tag:noindex
X-PUBLISHED-TTL:PT1H
BEGIN:VTIMEZONE
TZID:America/Chicago
BEGIN:DAYLIGHT
TZOFFSETFROM:-0600
TZOFFSETTO:-0500
TZNAME:CDT
DTSTART:20230312T080000
END:DAYLIGHT
BEGIN:STANDARD
TZOFFSETFROM:-0500
TZOFFSETTO:-0600
TZNAME:CST
DTSTART:20231105T070000
END:STANDARD
BEGIN:DAYLIGHT
TZOFFSETFROM:-0600
TZOFFSETTO:-0500
TZNAME:CDT
DTSTART:20240310T080000
END:DAYLIGHT
BEGIN:STANDARD
TZOFFSETFROM:-0500
TZOFFSETTO:-0600
TZNAME:CST
DTSTART:20241103T070000
END:STANDARD
BEGIN:DAYLIGHT
TZOFFSETFROM:-0600
TZOFFSETTO:-0500
TZNAME:CDT
DTSTART:20250309T080000
END:DAYLIGHT
BEGIN:STANDARD
TZOFFSETFROM:-0500
TZOFFSETTO:-0600
TZNAME:CST
DTSTART:20251102T070000
END:STANDARD
END:VTIMEZONE
BEGIN:VEVENT
DTSTART;TZID=America/Chicago:20240125T170000
DTEND;TZID=America/Chicago:20240125T183000
DTSTAMP:20260421T121305
CREATED:20231114T124716Z
LAST-MODIFIED:20231114T124716Z
UID:3296-1706202000-1706207400@westvillechamber.org
SUMMARY:Patrick's Grille Business After Hours
DESCRIPTION:Please Join us for the Westville Area Chamber of Commerce January Business After Hours hosted by Patrick’s Grille\, 4125 Franklin Street\, Michigan City\, IN 46360 \nLight refreshments with a cash bar will be served. \nRSVP:  info@westvillechamber.org \nPatrick’s Grille features a chic\, contemporary vibe- the perfect setting for any occasion…from an intimate romantic dinner to a celebration with friends and family.  The bar and dining room offer a casual yet sophisticated atmosphere to enjoy handcrafted cocktails\, sharables\, dinner and each others’ company.  Consider Patrick’s Grille for your corporate or social events.  Our two semi-private rooms can accommodate 15 to 100 guests.  Visit our sister site Patrickscatering.com for more information on catering services. \n 
URL:https://westvillechamber.org/event/patricks-grille-business-after-hours/
LOCATION:Patrick’s Grille\, 4125 S Franklin St\, Michigan City\, IN\, 46360\, United States
CATEGORIES:Event
ATTACH;FMTTYPE=image/jpeg:https://westvillechamber.org/wp-content/uploads/2023/11/Patricks-Grille.jpg
END:VEVENT
END:VCALENDAR