BEGIN:VCALENDAR
VERSION:2.0
PRODID:-//Westville Area Chamber of Commerce - ECPv6.15.20//NONSGML v1.0//EN
CALSCALE:GREGORIAN
METHOD:PUBLISH
X-WR-CALNAME:Westville Area Chamber of Commerce
X-ORIGINAL-URL:https://westvillechamber.org
X-WR-CALDESC:Events for Westville Area Chamber of Commerce
REFRESH-INTERVAL;VALUE=DURATION:PT1H
X-Robots-Tag:noindex
X-PUBLISHED-TTL:PT1H
BEGIN:VTIMEZONE
TZID:America/Chicago
BEGIN:DAYLIGHT
TZOFFSETFROM:-0600
TZOFFSETTO:-0500
TZNAME:CDT
DTSTART:20240310T080000
END:DAYLIGHT
BEGIN:STANDARD
TZOFFSETFROM:-0500
TZOFFSETTO:-0600
TZNAME:CST
DTSTART:20241103T070000
END:STANDARD
BEGIN:DAYLIGHT
TZOFFSETFROM:-0600
TZOFFSETTO:-0500
TZNAME:CDT
DTSTART:20250309T080000
END:DAYLIGHT
BEGIN:STANDARD
TZOFFSETFROM:-0500
TZOFFSETTO:-0600
TZNAME:CST
DTSTART:20251102T070000
END:STANDARD
BEGIN:DAYLIGHT
TZOFFSETFROM:-0600
TZOFFSETTO:-0500
TZNAME:CDT
DTSTART:20260308T080000
END:DAYLIGHT
BEGIN:STANDARD
TZOFFSETFROM:-0500
TZOFFSETTO:-0600
TZNAME:CST
DTSTART:20261101T070000
END:STANDARD
END:VTIMEZONE
BEGIN:VEVENT
DTSTART;TZID=America/Chicago:20250422T083000
DTEND;TZID=America/Chicago:20250422T093000
DTSTAMP:20260421T032809
CREATED:20241119T155716Z
LAST-MODIFIED:20250329T154316Z
UID:3650-1745310600-1745314200@westvillechamber.org
SUMMARY:Board Meeting
DESCRIPTION:Please note:  April’s board meeting has been rescheduled from Tuesday\, April 15th to Tuesday\, April 22nd.  We apologize for any inconvenient this may cause you. \n  \nThe Westville Area Chamber of Commerce has scheduled their monthly meetings to be located at the following location: Biggby Coffee Westville\, 1 Parkman Drive\, Westville\, IN 46391 \nThe next board meeting is scheduled for Tuesday\, May 20\, 2025 at 8:30A.M. (Central Time).
URL:https://westvillechamber.org/event/board-meeting-37/
LOCATION:Biggby Coffee Westville\, 1 Parkman Place\, Westville\, IN\, 46391\, United States
CATEGORIES:Board Meeting
END:VEVENT
BEGIN:VEVENT
DTSTART;TZID=America/Chicago:20250424T170000
DTEND;TZID=America/Chicago:20250424T183000
DTSTAMP:20260421T032809
CREATED:20250320T162751Z
LAST-MODIFIED:20250328T190222Z
UID:3827-1745514000-1745519400@westvillechamber.org
SUMMARY:The Barker Cottage - Business After Hours
DESCRIPTION:Please join us for the Barker Cottage Business After Hours.  The Barker Cottage is located behind Barker Mansion at 227 W. 7th Street\, Michigan City\, IN 46360.  The Cottage expands the Barker Mansion’s capacity to host diverse events and celebrations. \nLight refreshments will be available (no alcohol) \nThere will be door awards!  If your organization is interested in donating items as door awards\, contact the Westville Area Chamber of Commerce at info@westvillechamber.org. \nWe look forward to seeing you! \n  \n 
URL:https://westvillechamber.org/event/the-barker-cottage-business-after-hours/
LOCATION:The Barker Cottage\, 227 W. 7th Street\, Michigan City\, IN\, 46360\, United States
CATEGORIES:Event
ATTACH;FMTTYPE=image/jpeg:https://westvillechamber.org/wp-content/uploads/2025/03/Barker-Cottage-invitation-final.jpeg
END:VEVENT
END:VCALENDAR